{"text_format":"2","workbook":"xlsx","n_sheets":2,"sheets":["减免省律协部分会费申请表","Sheet2"],"not_rendered":{"charts":0,"images":0,"macros":0,"external_links":0,"defined_names":0,"comments":0,"pivot_tables":0},"unopened":[],"bounds":{"document_bytes":16777216,"sheet_cells":100000,"run_cost":"one","rows_first":2000,"rows_last":500,"rows_between":2000,"halvings":0,"cell_chars":16384,"cell_head_chars":4096},"cells_cut":0,"cells_raw":0,"read":"whole","date_system":"1900"}

{"sheet":"减免省律协部分会费申请表","index":0,"n_rows":39,"n_cols":5,"rows_kept":39,"cut":false,"hidden":false,"merged":[[38,0,38,4],[0,0,0,1],[1,0,1,4],[34,0,34,4],[36,0,37,1],[2,0,2,2],[2,3,2,4]]}
["附件5"]
["个人会员减免省律协部分会费申请表"]
["执业机构（全称）"]
["序号","姓名","执业证号","减免原因（从下拉菜单中选择）","减免金额（选择减免原因后自动生成无需填写）"]
[1,null,null,null,{"$f":"VLOOKUP(D5,Sheet2!$A$1:$B$4,2,0)","v":{"$error":"#N/A"}}]
[2,null,null,null,{"$f":"VLOOKUP(D6,Sheet2!$A$1:$B$4,2,0)","v":{"$error":"#N/A"}}]
[3,null,null,null,{"$f":"VLOOKUP(D7,Sheet2!$A$1:$B$4,2,0)","v":{"$error":"#N/A"}}]
[4,null,null,null,{"$f":"VLOOKUP(D8,Sheet2!$A$1:$B$4,2,0)","v":{"$error":"#N/A"}}]
[5,null,null,null,{"$f":"VLOOKUP(D9,Sheet2!$A$1:$B$4,2,0)","v":{"$error":"#N/A"}}]
[6,null,null,null,{"$f":"VLOOKUP(D10,Sheet2!$A$1:$B$4,2,0)","v":{"$error":"#N/A"}}]
[7,null,null,null,{"$f":"VLOOKUP(D11,Sheet2!$A$1:$B$4,2,0)","v":{"$error":"#N/A"}}]
[8,null,null,null,{"$f":"VLOOKUP(D12,Sheet2!$A$1:$B$4,2,0)","v":{"$error":"#N/A"}}]
[9,null,null,null,{"$f":"VLOOKUP(D13,Sheet2!$A$1:$B$4,2,0)","v":{"$error":"#N/A"}}]
[10,null,null,null,{"$f":"VLOOKUP(D14,Sheet2!$A$1:$B$4,2,0)","v":{"$error":"#N/A"}}]
[11,null,null,null,{"$f":"VLOOKUP(D15,Sheet2!$A$1:$B$4,2,0)","v":{"$error":"#N/A"}}]
[12,null,null,null,{"$f":"VLOOKUP(D16,Sheet2!$A$1:$B$4,2,0)","v":{"$error":"#N/A"}}]
[13,null,null,null,{"$f":"VLOOKUP(D17,Sheet2!$A$1:$B$4,2,0)","v":{"$error":"#N/A"}}]
[14,null,null,null,{"$f":"VLOOKUP(D18,Sheet2!$A$1:$B$4,2,0)","v":{"$error":"#N/A"}}]
[15,null,null,null,{"$f":"VLOOKUP(D19,Sheet2!$A$1:$B$4,2,0)","v":{"$error":"#N/A"}}]
[16,null,null,null,{"$f":"VLOOKUP(D20,Sheet2!$A$1:$B$4,2,0)","v":{"$error":"#N/A"}}]
[17,null,null,null,{"$f":"VLOOKUP(D21,Sheet2!$A$1:$B$4,2,0)","v":{"$error":"#N/A"}}]
[18,null,null,null,{"$f":"VLOOKUP(D22,Sheet2!$A$1:$B$4,2,0)","v":{"$error":"#N/A"}}]
[19,null,null,null,{"$f":"VLOOKUP(D23,Sheet2!$A$1:$B$4,2,0)","v":{"$error":"#N/A"}}]
[20,null,null,null,{"$f":"VLOOKUP(D24,Sheet2!$A$1:$B$4,2,0)","v":{"$error":"#N/A"}}]
[21,null,null,null,{"$f":"VLOOKUP(D25,Sheet2!$A$1:$B$4,2,0)","v":{"$error":"#N/A"}}]
[22,null,null,null,{"$f":"VLOOKUP(D26,Sheet2!$A$1:$B$4,2,0)","v":{"$error":"#N/A"}}]
[23,null,null,null,{"$f":"VLOOKUP(D27,Sheet2!$A$1:$B$4,2,0)","v":{"$error":"#N/A"}}]
[24,null,null,null,{"$f":"VLOOKUP(D28,Sheet2!$A$1:$B$4,2,0)","v":{"$error":"#N/A"}}]
[25,null,null,null,{"$f":"VLOOKUP(D29,Sheet2!$A$1:$B$4,2,0)","v":{"$error":"#N/A"}}]
[26,null,null,null,{"$f":"VLOOKUP(D30,Sheet2!$A$1:$B$4,2,0)","v":{"$error":"#N/A"}}]
[27,null,null,null,{"$f":"VLOOKUP(D31,Sheet2!$A$1:$B$4,2,0)","v":{"$error":"#N/A"}}]
[28,null,null,null,{"$f":"VLOOKUP(D32,Sheet2!$A$1:$B$4,2,0)","v":{"$error":"#N/A"}}]
[29,null,null,null,{"$f":"VLOOKUP(D33,Sheet2!$A$1:$B$4,2,0)","v":{"$error":"#N/A"}}]
[30,null,null,null,{"$f":"VLOOKUP(D34,Sheet2!$A$1:$B$4,2,0)","v":{"$error":"#N/A"}}]
["以上信息无误，请审批。"]
[null,null,null,"执业机构盖章"]
["市律协填写",null,"本次减免会费人数（人）："]
[null,null,"减免总金额（元）："]
["注：本申请表电子版发至会员部邮箱2450581852@qq.com，并打印一式三份加盖公章提交纸质版至会员部。"]

{"sheet":"Sheet2","index":1,"n_rows":4,"n_cols":2,"rows_kept":4,"cut":false,"hidden":false,"merged":[]}
["2018年1月1日后（含当日）取得律师执业证",170]
["出生日期为1955年3月1日前（含当日）",170]
["2020年3月15日（含当日）后因疫情仍滞留湖北未返回",170]
["确诊新冠肺炎",680]